BEGIN:VCALENDAR
VERSION:2.0
PRODID:-//Beltex Sheep Society - ECPv6.15.20//NONSGML v1.0//EN
CALSCALE:GREGORIAN
METHOD:PUBLISH
X-ORIGINAL-URL:https://beltexsheepsociety.co.uk
X-WR-CALDESC:Events for Beltex Sheep Society
REFRESH-INTERVAL;VALUE=DURATION:PT1H
X-Robots-Tag:noindex
X-PUBLISHED-TTL:PT1H
BEGIN:VTIMEZONE
TZID:Europe/London
BEGIN:DAYLIGHT
TZOFFSETFROM:+0000
TZOFFSETTO:+0100
TZNAME:BST
DTSTART:20170326T010000
END:DAYLIGHT
BEGIN:STANDARD
TZOFFSETFROM:+0100
TZOFFSETTO:+0000
TZNAME:GMT
DTSTART:20171029T010000
END:STANDARD
BEGIN:DAYLIGHT
TZOFFSETFROM:+0000
TZOFFSETTO:+0100
TZNAME:BST
DTSTART:20180325T010000
END:DAYLIGHT
BEGIN:STANDARD
TZOFFSETFROM:+0100
TZOFFSETTO:+0000
TZNAME:GMT
DTSTART:20181028T010000
END:STANDARD
BEGIN:DAYLIGHT
TZOFFSETFROM:+0000
TZOFFSETTO:+0100
TZNAME:BST
DTSTART:20190331T010000
END:DAYLIGHT
BEGIN:STANDARD
TZOFFSETFROM:+0100
TZOFFSETTO:+0000
TZNAME:GMT
DTSTART:20191027T010000
END:STANDARD
BEGIN:DAYLIGHT
TZOFFSETFROM:+0000
TZOFFSETTO:+0100
TZNAME:BST
DTSTART:20200329T010000
END:DAYLIGHT
BEGIN:STANDARD
TZOFFSETFROM:+0100
TZOFFSETTO:+0000
TZNAME:GMT
DTSTART:20201025T010000
END:STANDARD
END:VTIMEZONE
BEGIN:VEVENT
DTSTART;VALUE=DATE:20190828
DTEND;VALUE=DATE:20190829
DTSTAMP:20260425T161914
CREATED:20190126T195811Z
LAST-MODIFIED:20190126T195811Z
UID:3106-1566950400-1567036799@beltexsheepsociety.co.uk
SUMMARY:Welshpool Sale
DESCRIPTION:Welshpool Sale on behalf of the Welsh Club
URL:https://beltexsheepsociety.co.uk/event/welshpool-sale-2/
LOCATION:Welshpool Livestock Mart
CATEGORIES:Club,Sale Event
END:VEVENT
BEGIN:VEVENT
DTSTART;VALUE=DATE:20190826
DTEND;VALUE=DATE:20190827
DTSTAMP:20260425T161914
CREATED:20190126T195507Z
LAST-MODIFIED:20190126T200630Z
UID:3101-1566777600-1566863999@beltexsheepsociety.co.uk
SUMMARY:Dungannon Sale
DESCRIPTION:Dungannon Sale on behalf of the Irish Club
URL:https://beltexsheepsociety.co.uk/event/dungannon-sale-2/
LOCATION:Dungannon Farmers Mart\, Dungannon
CATEGORIES:Club,Sale Event
END:VEVENT
BEGIN:VEVENT
DTSTART;VALUE=DATE:20190814
DTEND;VALUE=DATE:20190815
DTSTAMP:20260425T161914
CREATED:20190126T195047Z
LAST-MODIFIED:20190126T200708Z
UID:3097-1565740800-1565827199@beltexsheepsociety.co.uk
SUMMARY:NSA Exeter Sale
DESCRIPTION:South West Club with NSA Ram Sale at Exeter
URL:https://beltexsheepsociety.co.uk/event/nsa-exeter-sale/
LOCATION:Exeter Market\, Exeter
CATEGORIES:Club,Sale Event
END:VEVENT
BEGIN:VEVENT
DTSTART;VALUE=DATE:20190801
DTEND;VALUE=DATE:20190803
DTSTAMP:20260425T161914
CREATED:20190126T194558Z
LAST-MODIFIED:20190717T091340Z
UID:3092-1564617600-1564790399@beltexsheepsociety.co.uk
SUMMARY:Thame Sheep Fair
DESCRIPTION:Club Sale of breeding males and females at the Thame Sheep Fair on behalf of the Central Club
URL:https://beltexsheepsociety.co.uk/event/thame-sheep-fair-2/
CATEGORIES:Club,Sale Event
END:VEVENT
BEGIN:VEVENT
DTSTART;VALUE=DATE:20190629
DTEND;VALUE=DATE:20190630
DTSTAMP:20260425T161914
CREATED:20190409T085804Z
LAST-MODIFIED:20190409T085804Z
UID:3449-1561766400-1561852799@beltexsheepsociety.co.uk
SUMMARY:Irish Beltex Breeders Club - Open Day
DESCRIPTION:Open Day and Judging Academy with John Barclay kindly hosted by Kenny Preston\, Glenpark flock
URL:https://beltexsheepsociety.co.uk/event/irish-beltex-breeders-club-open-day/
CATEGORIES:Club
ORGANIZER;CN="Irish Beltex Breeders Club":MAILTO:glenparkblues@gmail.com
END:VEVENT
BEGIN:VEVENT
DTSTART;VALUE=DATE:20190504
DTEND;VALUE=DATE:20190505
DTSTAMP:20260425T161914
CREATED:20190126T194117Z
LAST-MODIFIED:20190126T194420Z
UID:3085-1556928000-1557014399@beltexsheepsociety.co.uk
SUMMARY:Newark -  Ewes with lambs at foot
DESCRIPTION:Newark Ewes with lambs at foot\, and Dry Ewe Hoggs
URL:https://beltexsheepsociety.co.uk/event/newark-ewes-with-lambs-at-foot/
CATEGORIES:Club,Sale Event
END:VEVENT
BEGIN:VEVENT
DTSTART;VALUE=DATE:20190426
DTEND;VALUE=DATE:20190427
DTSTAMP:20260425T161914
CREATED:20190126T193902Z
LAST-MODIFIED:20190126T195147Z
UID:3083-1556236800-1556323199@beltexsheepsociety.co.uk
SUMMARY:Exeter - Ewes with Lambs at foot Sale
DESCRIPTION:New for 2019 the South West Club are holding a Sale for Ewes with lambs at foot\, and Dry Ewe Hoggs
URL:https://beltexsheepsociety.co.uk/event/exeter-ewe-with-lambs-foot/
LOCATION:Exeter Market\, Exeter
CATEGORIES:Club,Sale Event
END:VEVENT
BEGIN:VEVENT
DTSTART;TZID=Europe/London:20180805T130000
DTEND;TZID=Europe/London:20180805T170000
DTSTAMP:20260425T161914
CREATED:20180724T100848Z
LAST-MODIFIED:20180724T100848Z
UID:1939-1533474000-1533488400@beltexsheepsociety.co.uk
SUMMARY:Northern Club Open Day
DESCRIPTION:Northern Beltex Club Open Day by kind permission of Beautry Pedigree Livestock\nBeltex I Beef Shorthorn I Stock Judging Competitions I Equine Swimming Pool Demonstration\nRaffle in aid of N.W Air Ambulance I Refreshments \nFull details: Northern Beltex Open Day 2018
URL:https://beltexsheepsociety.co.uk/event/northern-club-open-day/
LOCATION:Beautry House\, Rathmell\, Settle\, Lancs\, BD24 0LA\, United Kingdom
CATEGORIES:Club
END:VEVENT
END:VCALENDAR